BEGIN:VCALENDAR
VERSION:2.0
PRODID:-//Natuurpoort Wouwse Plantage - ECPv6.15.20//NONSGML v1.0//EN
CALSCALE:GREGORIAN
METHOD:PUBLISH
X-WR-CALNAME:Natuurpoort Wouwse Plantage
X-ORIGINAL-URL:https://natuurpoortwouwseplantage.nl
X-WR-CALDESC:Evenementen voor Natuurpoort Wouwse Plantage
REFRESH-INTERVAL;VALUE=DURATION:PT1H
X-Robots-Tag:noindex
X-PUBLISHED-TTL:PT1H
BEGIN:VTIMEZONE
TZID:Europe/Amsterdam
BEGIN:DAYLIGHT
TZOFFSETFROM:+0100
TZOFFSETTO:+0200
TZNAME:CEST
DTSTART:20240331T010000
END:DAYLIGHT
BEGIN:STANDARD
TZOFFSETFROM:+0200
TZOFFSETTO:+0100
TZNAME:CET
DTSTART:20241027T010000
END:STANDARD
BEGIN:DAYLIGHT
TZOFFSETFROM:+0100
TZOFFSETTO:+0200
TZNAME:CEST
DTSTART:20250330T010000
END:DAYLIGHT
BEGIN:STANDARD
TZOFFSETFROM:+0200
TZOFFSETTO:+0100
TZNAME:CET
DTSTART:20251026T010000
END:STANDARD
BEGIN:DAYLIGHT
TZOFFSETFROM:+0100
TZOFFSETTO:+0200
TZNAME:CEST
DTSTART:20260329T010000
END:DAYLIGHT
BEGIN:STANDARD
TZOFFSETFROM:+0200
TZOFFSETTO:+0100
TZNAME:CET
DTSTART:20261025T010000
END:STANDARD
END:VTIMEZONE
BEGIN:VEVENT
DTSTART;TZID=Europe/Amsterdam:20250625T000000
DTEND;TZID=Europe/Amsterdam:20250627T000000
DTSTAMP:20260425T202707
CREATED:20250407T121041Z
LAST-MODIFIED:20250605T183100Z
UID:7204-1750809600-1750982400@natuurpoortwouwseplantage.nl
SUMMARY:Avond 3 daagse Wouwse Plantage
DESCRIPTION:Wandel 3 Avonden Rond Natuurpoort Wouwse Plantage! \n\n\nHeb je zin in drie heerlijke zomeravonden in de natuur? Trek je wandelschoenen aan en doe mee op 25\, 26 en 27 juni met een bijzondere reeks wandelingen rondom Natuurpoort Wouwse Plantage! \n\n\n Geniet van de rust\, de bossen\, en de bijzondere sfeer van de Brabantse natuur op haar mooist. Elke avond start er een mooie route vanaf de natuurpoort — ideaal voor zowel recreatieve wandelaars als de echte natuurliefhebbers.\n\n\n Kom je van verder? Overnacht dan op een van de gezellige campings in de buurt\, zoals Camping GetAway – op steenworp afstand van de startplek!\n\n\n Startlocatie: Natuurpoort  Wouwse Plantage\n Starttijd: 18:30 uur (aanmelden vanaf 18:00)\n Routes: 5 of 10 km\, elke avond een andere!\n\n\n Data: Dinsdag 25 juni\, woensdag 26 juni & donderdag 27 juni\n Meer informatie via de Avond3daagse Wouwse Plantage\n\n 
URL:https://natuurpoortwouwseplantage.nl/event/avond-3-daagse-wouwse-plantage/
LOCATION:Natuurpoort\, Plantagebaan tussen huisnummers 225 en 227\, Wouwe Plantage\, Nederland
ORGANIZER;CN="Stichting Natuurpoort Wouwse Plantage":MAILTO:mail@natuurpoortwouwseplantage.nl
END:VEVENT
BEGIN:VEVENT
DTSTART;TZID=Europe/Amsterdam:20250601T120000
DTEND;TZID=Europe/Amsterdam:20250601T180000
DTSTAMP:20260425T202707
CREATED:20250515T144703Z
LAST-MODIFIED:20250515T144827Z
UID:7755-1748779200-1748800800@natuurpoortwouwseplantage.nl
SUMMARY:Internationale Dag van het  kind Wouwse Plantage 2025
DESCRIPTION:Internationale Dag van het Kind – Een Feest voor het Hele Gezin! \n\n\n Datum: Zondag 1 juni 2025\n Locatie: Plantagebaan tussen 225-227\, 4725AC Wouwse Plantage\n Toegang gratis!\nKinderen\, maak je klaar voor een dag vol fantastische attracties!\nOuders en verzorgers\, ook voor jullie hebben we iets speciaals in petto! \nVoor de kleintjes:\n•  Gezichtsschminken\n•  Schuimparty\n•  Springkussens\n•  Ontmoetingen met favoriete personages\n•  Wedstrijden met prijzen\n•  En nog veel meer verrassingen!\n\n\nVoor volwassenen:\nWe zijn jullie niet vergeten! Geniet van ontspanningsruimtes\, heerlijk eten\, aromatische koffie en vele andere activiteiten die jullie tijd op het festival aangenaam maken.\nHet is de perfecte gelegenheid om tijd door te brengen met het gezin\, samen plezier te maken en onvergetelijke herinneringen te creëren. Niemand zal zich vervelen!\n\n\nTot ziens op het evenement!
URL:https://natuurpoortwouwseplantage.nl/event/internationale-dag-van-het-kind-wouwse-plantage-2025/
LOCATION:Natuurpoort\, Plantagebaan tussen huisnummers 225 en 227\, Wouwe Plantage\, Nederland
END:VEVENT
END:VCALENDAR